 BEGIN:VCALENDAR
VERSION:2.0
PRODID:-//Giro d&#039;Italia - Tappe Bergamasche - ECPv6.15.20//NONSGML v1.0//EN
CALSCALE:GREGORIAN
METHOD:PUBLISH
X-WR-CALNAME:Giro d&#039;Italia - Tappe Bergamasche
X-ORIGINAL-URL:https://giro.promoeventisport.it
X-WR-CALDESC:Eventi per Giro d&#039;Italia - Tappe Bergamasche
REFRESH-INTERVAL;VALUE=DURATION:PT1H
X-Robots-Tag:noindex
X-PUBLISHED-TTL:PT1H
BEGIN:VTIMEZONE
TZID:Europe/Rome
BEGIN:DAYLIGHT
TZOFFSETFROM:+0100
TZOFFSETTO:+0200
TZNAME:CEST
DTSTART:20160327T010000
END:DAYLIGHT
BEGIN:STANDARD
TZOFFSETFROM:+0200
TZOFFSETTO:+0100
TZNAME:CET
DTSTART:20161030T010000
END:STANDARD
BEGIN:DAYLIGHT
TZOFFSETFROM:+0100
TZOFFSETTO:+0200
TZNAME:CEST
DTSTART:20170326T010000
END:DAYLIGHT
BEGIN:STANDARD
TZOFFSETFROM:+0200
TZOFFSETTO:+0100
TZNAME:CET
DTSTART:20171029T010000
END:STANDARD
BEGIN:DAYLIGHT
TZOFFSETFROM:+0100
TZOFFSETTO:+0200
TZNAME:CEST
DTSTART:20180325T010000
END:DAYLIGHT
BEGIN:STANDARD
TZOFFSETFROM:+0200
TZOFFSETTO:+0100
TZNAME:CET
DTSTART:20181028T010000
END:STANDARD
END:VTIMEZONE
BEGIN:VEVENT
DTSTART;TZID=Europe/Rome:20170522T180000
DTEND;TZID=Europe/Rome:20170522T180000
DTSTAMP:20260426T004058
CREATED:20170506T135823Z
LAST-MODIFIED:20170510T102436Z
UID:695-1495476000-1495476000@giro.promoeventisport.it
SUMMARY:Un "Giro" per Clusone
DESCRIPTION:In occasione dell’arrivo del Giro d’Italia nell’altopiano clusonese\, un itinerario da percorrere tutto d’un fiato. \nOrologio Planetario Fanzago\, Danza Macabra e MAT – Museo Arte Tempo\, tre tappe d’eccezione per chi vuole percorrere i luoghi più importanti e suggestivi della cittadina baradella\, assaporare le bellezze culturali e l’atmosfera primaverile. \nRitrovo ore 18:00 presso la Piazza Orologio. \nCosto € 5\,00 – con Artelier – prenotazione al 342.3897672.
URL:https://giro.promoeventisport.it/evento/un-giro-clusone/
LOCATION:Piazza Orologio\, Piazza dell'Orologio\, Clusone\, 24023\, Italia
CATEGORIES:Prossimi eventi,Rovetta
ATTACH;FMTTYPE=image/jpeg:https://giro.promoeventisport.it/wp-content/uploads/2017/05/clusone_piazza_orologio_IMG_7283-63-800-600-80.jpg
END:VEVENT
BEGIN:VEVENT
DTSTART;TZID=Europe/Rome:20170522T090000
DTEND;TZID=Europe/Rome:20170522T090000
DTSTAMP:20260426T004058
CREATED:20170413T134239Z
LAST-MODIFIED:20170506T142250Z
UID:413-1495443600-1495443600@giro.promoeventisport.it
SUMMARY:PEDALA COI CAMPIONI
DESCRIPTION:PEDALA COI CAMPIONI\nIn occasione del Giro d’Italia 2017 e del passaggio in terra bergamasca della corsa rosa\, Promoeventi Sport in collaborazione con Scott Italia organizza la PEDALA COI CAMPIONI\, evento cicloamatoriale non agonistico ad andatura libera che vedrà numerosi ex professionisti su strada bergamaschi pedalare a fianco di autorità\, aziende partner\, rappresentanti delle istituzioni e degli enti locali e del pubblico che vorrà partecipare. \nUna pedalata che porterà i protagonisti a scoprire le piste ciclabili e le strade alternative della Val Seriana da Alzano Lombardo (ritrovo ore 9.00 in zona Barcicletta) fino a Onore: lungo il tragitto sarà possibile fermarsi alle stazioni di ristoro di Cene e Ponte Nossa\, per reintegrare le energie e ripartire di slancio verso la meta. \nLa partecipazione è libera e avviene sotto la propria responsabilità e\, in tal senso\, non è prevista iscrizione. \nIL PROGRAMMA:\nORE 9.00: Ritrovo presso il BarCicletta\nORE 9.30: Partenza dei gruppi\nORE 11.00: Tappa al BikeGrill\nORE 11.30: Partenza dei gruppi\nORE 12.30: Tappa al centro sportivo di Ponte Nossa\nORE 13.30: Arrivo a Onore con Pasta Party
URL:https://giro.promoeventisport.it/evento/pedala-coi-campioni/
LOCATION:Alzano Lombardo\, Italia
CATEGORIES:Bergamo,Prossimi eventi,Rovetta
ATTACH;FMTTYPE=image/jpeg:https://giro.promoeventisport.it/wp-content/uploads/2017/04/pedalata.jpg
ORGANIZER;CN="Promoeventi Sport":MAILTO:info@promoeventisport.it
END:VEVENT
BEGIN:VEVENT
DTSTART;TZID=Europe/Rome:20170521T140000
DTEND;TZID=Europe/Rome:20170521T180000
DTSTAMP:20260426T004058
CREATED:20170516T071819Z
LAST-MODIFIED:20170516T072026Z
UID:745-1495375200-1495389600@giro.promoeventisport.it
SUMMARY:East Lombardy incontra lo Sport
DESCRIPTION:La 100° edizione del Giro d’Italia godrà di una distribuzione televisiva planetaria: saranno 194 i Paesi collegati con la Corsa Rosa tramite 22 diversi network televisivi\, 19 dei quali trasmetteranno in diretta!\nLa 15° tappa del 21 maggio avrà il suo arrivo proprio nel centro della città di Bergamo in arrivo da Selvino con la lunga discesa\, la salita in Città Alta tramite Porta Garibaldi\, Colle Aperto e l’arrivo nel centro città.\nDomus Bergamo\, cuore pulsante delle iniziative del centro città e vetrina ufficiale del progetto East Lombardy (Bergamo\, Brescia\, Cremona e Mantova)\, curerà la presenza dei più rappresentativi prodotti enogastronomici di ciascuna delle quattro province East Lombardy ideando un progetto che crei un doppio collegamento tra sport e sana alimentazione\, tra Giro d’Italia e Lombardia Orientale.\nLa giornata partirà con un brindisi augurale riservato agli addetti ai lavori di Giro d’Italia e di East Lombardy durante il quale i giovani chef di Taste dell’istituto alberghiero iSchool\, prepareranno il primo panino East Lombardy. Si tratterà di un vero e proprio show cooking che darà il via alle pro-poste appositamente ideate e realizzate dal ristorante didattico. Agli appassionati e ai curiosi che aspetteranno l’arrivo dei corridori nel centro della città verranno proposti insieme al “panino East Lombardy” i prodotti di due birrifici artigianali. \nAl centro di Piazzetta Piave verrà allestito un grande tavolo espositivo in cui verranno presentati i più rappresentativi enogastronomici per ciascuna delle quattro province. \n 
URL:https://giro.promoeventisport.it/evento/east-lombardy-incontra-lo-sport/
LOCATION:Piazzetta Piave\, Bergamo\, 24121\, Italia
CATEGORIES:Bergamo,Prossimi eventi,Rovetta
ATTACH;FMTTYPE=image/jpeg:https://giro.promoeventisport.it/wp-content/uploads/2017/05/locandina.jpg
END:VEVENT
BEGIN:VEVENT
DTSTART;TZID=Europe/Rome:20170521T090000
DTEND;TZID=Europe/Rome:20170521T180000
DTSTAMP:20260426T004058
CREATED:20170506T132326Z
LAST-MODIFIED:20170510T101501Z
UID:677-1495357200-1495389600@giro.promoeventisport.it
SUMMARY:BIMBI IN BICI
DESCRIPTION:Pedalata aperta a tutti i ragazzi e alle loro famiglie in un percorso di 5 km\, alle 12:30 PASTA PARTY e animazione per i più piccoli. \nA seguire merenda e Maxi schermo in Piazza Orologio per vedere insieme la tappa del Giro a Bergamo. \nPROGRAMMA\nRitrovo in Piazza Orologio dalle ore 9.00 alle ore 9.45 per iscrizioni\nOre 10.30 partenza della pedalata verso Rovetta\nOre 12.15 circa rientro in Piazza Orologio\nOre 12.30 Pasta Party in collaborazione con Turismo Pro Clusone\nOre 14.00 Animazione e truccabimbi\nOre 15.30 Animazione con l’artista di strada Gemy Gimelli\nOre 16.15 Merenda per tutti in collaborazione con Panificio Minuscoli\nOre 17.00 estrazione premi: 1° premio Bicicletta – tanti ricchi premi per tutti. \n  \nISCRIZIONI\nPresso Cicli Pellegrini Clusone – Turismo Pro Clusone\nDomenica 21 – Iscrizioni direttamente in Piazza Orologio – dalle 9.00 alle 10.15\nBambino/ragazzo fino a 18 anni non compiuti\n€ 6\,00 (la quota comprende l’assicurazione e l’iscrizione per 1 anno all’associazione Aribi-Fiab\, pasta party\, merenda e animazione).\nGenitore/ragazzo 18 anni compiuti\n€ 4\,00 (la quota comprende l’assicurazione per la manifestazione\, pasta party\, merenda e animazione). \nE’ CONSIGLIATO L’USO DEL CASCHETTO\nIn caso di maltempo visitate il sito www.turismoproclusone.it
URL:https://giro.promoeventisport.it/evento/bimbi-in-bici/
LOCATION:Piazza Orologio\, Piazza dell'Orologio\, Clusone\, 24023\, Italia
CATEGORIES:Bergamo,Prossimi eventi,Rovetta
ATTACH;FMTTYPE=image/jpeg:https://giro.promoeventisport.it/wp-content/uploads/2017/05/bimbibici2.jpg
END:VEVENT
BEGIN:VEVENT
DTSTART;TZID=Europe/Rome:20170520T143000
DTEND;TZID=Europe/Rome:20170520T143000
DTSTAMP:20260426T004058
CREATED:20170510T101723Z
LAST-MODIFIED:20170510T101821Z
UID:723-1495290600-1495290600@giro.promoeventisport.it
SUMMARY:BIMBI IN BICI
DESCRIPTION:Dalle ore 14.30 presso Piazza Manzù verranno allestiti percorsi ad ostacoli a cura della Polizia Locale di Clusone\, del MTB Parre e Aribi-Fiab.\nA seguire Pedalata in Centro Storico in collaborazione con MTB Parre.
URL:https://giro.promoeventisport.it/evento/bimbi-in-bici-2/
LOCATION:Piazza Manzù\, Clusone\, 24023\, Italia
CATEGORIES:Bergamo,Prossimi eventi,Rovetta
ATTACH;FMTTYPE=image/jpeg:https://giro.promoeventisport.it/wp-content/uploads/2017/05/bimbibici2.jpg
END:VEVENT
END:VCALENDAR