 BEGIN:VCALENDAR
VERSION:2.0
PRODID:-//Giro d&#039;Italia - Tappe Bergamasche - ECPv6.15.20//NONSGML v1.0//EN
CALSCALE:GREGORIAN
METHOD:PUBLISH
X-WR-CALNAME:Giro d&#039;Italia - Tappe Bergamasche
X-ORIGINAL-URL:https://giro.promoeventisport.it
X-WR-CALDESC:Eventi per Giro d&#039;Italia - Tappe Bergamasche
REFRESH-INTERVAL;VALUE=DURATION:PT1H
X-Robots-Tag:noindex
X-PUBLISHED-TTL:PT1H
BEGIN:VTIMEZONE
TZID:Europe/Rome
BEGIN:DAYLIGHT
TZOFFSETFROM:+0100
TZOFFSETTO:+0200
TZNAME:CEST
DTSTART:20150329T010000
END:DAYLIGHT
BEGIN:STANDARD
TZOFFSETFROM:+0200
TZOFFSETTO:+0100
TZNAME:CET
DTSTART:20151025T010000
END:STANDARD
BEGIN:DAYLIGHT
TZOFFSETFROM:+0100
TZOFFSETTO:+0200
TZNAME:CEST
DTSTART:20160327T010000
END:DAYLIGHT
BEGIN:STANDARD
TZOFFSETFROM:+0200
TZOFFSETTO:+0100
TZNAME:CET
DTSTART:20161030T010000
END:STANDARD
BEGIN:DAYLIGHT
TZOFFSETFROM:+0100
TZOFFSETTO:+0200
TZNAME:CEST
DTSTART:20170326T010000
END:DAYLIGHT
BEGIN:STANDARD
TZOFFSETFROM:+0200
TZOFFSETTO:+0100
TZNAME:CET
DTSTART:20171029T010000
END:STANDARD
BEGIN:DAYLIGHT
TZOFFSETFROM:+0100
TZOFFSETTO:+0200
TZNAME:CEST
DTSTART:20180325T010000
END:DAYLIGHT
BEGIN:STANDARD
TZOFFSETFROM:+0200
TZOFFSETTO:+0100
TZNAME:CET
DTSTART:20181028T010000
END:STANDARD
BEGIN:DAYLIGHT
TZOFFSETFROM:+0100
TZOFFSETTO:+0200
TZNAME:CEST
DTSTART:20190331T010000
END:DAYLIGHT
BEGIN:STANDARD
TZOFFSETFROM:+0200
TZOFFSETTO:+0100
TZNAME:CET
DTSTART:20191027T010000
END:STANDARD
BEGIN:DAYLIGHT
TZOFFSETFROM:+0100
TZOFFSETTO:+0200
TZNAME:CEST
DTSTART:20200329T010000
END:DAYLIGHT
BEGIN:STANDARD
TZOFFSETFROM:+0200
TZOFFSETTO:+0100
TZNAME:CET
DTSTART:20201025T010000
END:STANDARD
BEGIN:DAYLIGHT
TZOFFSETFROM:+0100
TZOFFSETTO:+0200
TZNAME:CEST
DTSTART:20210328T010000
END:DAYLIGHT
BEGIN:STANDARD
TZOFFSETFROM:+0200
TZOFFSETTO:+0100
TZNAME:CET
DTSTART:20211031T010000
END:STANDARD
BEGIN:DAYLIGHT
TZOFFSETFROM:+0100
TZOFFSETTO:+0200
TZNAME:CEST
DTSTART:20220327T010000
END:DAYLIGHT
BEGIN:STANDARD
TZOFFSETFROM:+0200
TZOFFSETTO:+0100
TZNAME:CET
DTSTART:20221030T010000
END:STANDARD
BEGIN:DAYLIGHT
TZOFFSETFROM:+0100
TZOFFSETTO:+0200
TZNAME:CEST
DTSTART:20230326T010000
END:DAYLIGHT
BEGIN:STANDARD
TZOFFSETFROM:+0200
TZOFFSETTO:+0100
TZNAME:CET
DTSTART:20231029T010000
END:STANDARD
BEGIN:DAYLIGHT
TZOFFSETFROM:+0100
TZOFFSETTO:+0200
TZNAME:CEST
DTSTART:20240331T010000
END:DAYLIGHT
BEGIN:STANDARD
TZOFFSETFROM:+0200
TZOFFSETTO:+0100
TZNAME:CET
DTSTART:20241027T010000
END:STANDARD
BEGIN:DAYLIGHT
TZOFFSETFROM:+0100
TZOFFSETTO:+0200
TZNAME:CEST
DTSTART:20250330T010000
END:DAYLIGHT
BEGIN:STANDARD
TZOFFSETFROM:+0200
TZOFFSETTO:+0100
TZNAME:CET
DTSTART:20251026T010000
END:STANDARD
BEGIN:DAYLIGHT
TZOFFSETFROM:+0100
TZOFFSETTO:+0200
TZNAME:CEST
DTSTART:20260329T010000
END:DAYLIGHT
BEGIN:STANDARD
TZOFFSETFROM:+0200
TZOFFSETTO:+0100
TZNAME:CET
DTSTART:20261025T010000
END:STANDARD
END:VTIMEZONE
BEGIN:VEVENT
DTSTART;VALUE=DATE:20250707
DTEND;VALUE=DATE:20250709
DTSTAMP:20260426T031809
CREATED:20250525T094739Z
LAST-MODIFIED:20250616T210856Z
UID:1926-1751868000-1751954399@giro.promoeventisport.it
SUMMARY:Scatto rosa Giro d’Italia women photo contest
DESCRIPTION:La bicicletta è femminile. Certo la bicicletta come sostantivo è femminile\, ma non solo. Anche ciò che rappresenta la “due ruote” ha molto di muliebre. \nE allora perché non sottolineare l’immagine della donna in bicicletta attraverso un challenge che vuole sottolineare quanto sia attraente e affascinante il ciclismo visto con gli occhi di una donna. \nAl di qua della telecamera\, ma anche al di là\, dove sarà “lei” la protagonista che pedala. \nDunque\, in vista del Giro d’Italia Women\, la società Promoeventi Sport lancia “SCATTO ROSA”\, un photo contest sulle piattaforme social per eleggere le due migliori foto che rappresentano il binomio “Donne e Bicicletta”: un premio per l’immagine scattata da una fotografa donna che riceverà più like\, e un secondo riconoscimento per la foto con soggetto femminile\, entrambe a tema ciclismo. \n  \nCOME FUNZIONA \n✔️ Saranno elette\, in base alle foto che riceveranno più like\, la migliore immagine scattata da una fotografa donna e la miglior foto con soggetto femminile. \n  \nCOME PARTECIPARE \nPer partecipare è sufficiente: \n• Compilare il Form con i propri dati personali.\n• Caricare una foto originale scattata da una fotografa donna oppure che ritrae un soggetto femminile.\n  \nMODALITÀ DI ASSEGNAZIONE PREMIO \n• Verranno premiate la foto scattata da una fotografa donna e la foto che ritrae un soggetto femminile che riceveranno più like.\n• Sarà possibile candidare le proprie foto al Form fino al 1° luglio 2025 e sarà possibile votare le proprie foto preferite sulla pagina Instagram dedicata entro la data limite del 2 luglio 2025. \n\nLink alla pagina Instagram: Instagram – Scatto Rosa Giro d’Italia Women 2025 \n  \n 
URL:https://giro.promoeventisport.it/evento/scatto-rosa-giro-ditalia-women-photo-contest/
CATEGORIES:Prossimi eventi
ATTACH;FMTTYPE=image/jpeg:https://giro.promoeventisport.it/wp-content/uploads/2025/05/thumb-women-photo-challenge.jpg
END:VEVENT
BEGIN:VEVENT
DTSTART;TZID=Europe/Rome:20250629T080000
DTEND;TZID=Europe/Rome:20250629T200000
DTSTAMP:20260426T031809
CREATED:20250616T115446Z
LAST-MODIFIED:20250616T134504Z
UID:1957-1751184000-1751227200@giro.promoeventisport.it
SUMMARY:Alfonsina Strada – Una corsa per l’emancipazione
DESCRIPTION:Tra le varie iniziative collaterali organizzate dal comitato di tappa bergamasco del Giro d’Italia Women 2025\, Promoeventi Sport organizza presso il nuovo Smart District – Chorus Life una rappresentazione teatrale gratuita a cura dell’attrice Federica Molteni per ricordare la prima e unica donna che prese parte al Giro d’Italia nel 1924. \n  \nDomenica 29 giugno 2025 – ore 20:00\npresso Chorus Life a Bergamo\n  \nSPETTACOLO TEATRALE \nIniziativa gratuita \n  \n \n  \nUna rappresentazione coinvolgente di un’ora\, che ripercorre la vita e le imprese di una donna fuori dal comune. \nAlfonsina è figlia di un tempo in cui il ciclismo è una sfida estrema riservata agli uomini: impavidi e forti. Eppure\, lei osa. Insegue la sua passione\, sfida i pregiudizi e infrange le regole\, fino a conquistarsi un posto nella corsa più dura\, il Giro d’Italia. La sua presenza nel gruppo nel 1924 segna un momento storico non solo per lo sport\, ma per l’intero cammino dell’emancipazione femminile. \nLo spettacolo\, prodotto da Luna e Gnac\, è molto più di una narrazione biografica: è un tributo alla determinazione\, alla passione e al coraggio di chi ha saputo pedalare controvento\, aprendo la strada a tutte le donne che sono venute dopo. \nQuesta iniziativa gratuita rientra nel programma degli eventi collaterali al Giro d’Italia Women 2025\, con l’obiettivo di valorizzare il legame tra sport e cultura\, e promuovere modelli femminili ispiratori\, capaci di lasciare un segno indelebile nella memoria collettiva. \nPer maggiori informazioni: www.promoeventisport.it \n 
URL:https://giro.promoeventisport.it/evento/alfonsina-strada-una-corsa-per-lemancipazione/
LOCATION:Chorus life – Bergamo\, Via Carlo Serassi\, 26\, Bergamo\, 24124\, Italy
CATEGORIES:Bergamo,Prossimi eventi
ATTACH;FMTTYPE=image/jpeg:https://giro.promoeventisport.it/wp-content/uploads/2025/06/foto-1-scaled.jpg
ORGANIZER;CN="Promoeventi Sport":MAILTO:info@promoeventisport.it
END:VEVENT
BEGIN:VEVENT
DTSTART;TZID=Europe/Rome:20250621T090000
DTEND;TZID=Europe/Rome:20250621T120000
DTSTAMP:20260426T031809
CREATED:20250525T091940Z
LAST-MODIFIED:20250616T140808Z
UID:1919-1750496400-1750507200@giro.promoeventisport.it
SUMMARY:Women social ride
DESCRIPTION:Sabato 21 giugno la Women Social Ride è dedicata alle donne. \nUn momento di sport\, condivisione e sostegno al ciclismo femminile per far vivere alle partecipanti l’esperienza di pedalare insieme tra le due Città di Tappa bergamasche toccate della Corsa Rosa. \nPartenza da Bergamo alle ore 9:00 \nArrivo a Clusone previsto tra le 11:30 e le 12:00 dove sarà offerto un rifresco finale alle partecipanti prima del rientro in autonomia. \nTrovi tutte le info sulla Women Social Ride\, inclusa l’iscrizione gratuita\, compilando il form a questo link. \n  \nPhoto by Santini
URL:https://giro.promoeventisport.it/evento/women-social-ride/
LOCATION:Bergamo | Clusone
CATEGORIES:Prossimi eventi
ATTACH;FMTTYPE=image/jpeg:https://giro.promoeventisport.it/wp-content/uploads/2025/05/banner-evento-thumb-evidenza.jpg
END:VEVENT
BEGIN:VEVENT
DTSTART;TZID=Europe/Rome:20230521T140000
DTEND;TZID=Europe/Rome:20230521T190000
DTSTAMP:20260426T031809
CREATED:20230429T084545Z
LAST-MODIFIED:20230429T084714Z
UID:1734-1684677600-1684695600@giro.promoeventisport.it
SUMMARY:Giroland
DESCRIPTION:Il circo del Giro d’Italia approda nelle città di arrivo con GiroLand\, il nuovo villaggio dedicato ad adulti e bambini dove scoprire la storia e i simboli della Corsa Rosa\, con attività di intrattenimento e di engagement ispirate ai giochi più iconici del Luna Park. \n 
URL:https://giro.promoeventisport.it/evento/giroland/
LOCATION:Bergamo – Sentierone\, Sentierone\, Bergamo
CATEGORIES:Prossimi eventi
ATTACH;FMTTYPE=image/jpeg:https://giro.promoeventisport.it/wp-content/uploads/2023/04/giroland-bergamo.jpg
END:VEVENT
BEGIN:VEVENT
DTSTART;TZID=Europe/Rome:20230518T160000
DTEND;TZID=Europe/Rome:20230521T190000
DTSTAMP:20260426T031809
CREATED:20230412T092520Z
LAST-MODIFIED:20230412T092520Z
UID:1712-1684425600-1684695600@giro.promoeventisport.it
SUMMARY:Mostra "Sulle ali delle emozioni"
DESCRIPTION:
URL:https://giro.promoeventisport.it/evento/mostra-sulle-ali-delle-emozioni/
LOCATION:Palazzo della Provincia – Sala Manzù\, Via Camozzi (passaggio Via Sora)\, Bergamo\, BG\, 24121\, Italia
CATEGORIES:Prossimi eventi
ATTACH;FMTTYPE=image/jpeg:https://giro.promoeventisport.it/wp-content/uploads/2023/04/thumb-mostra-memorabilia-1.jpg
END:VEVENT
BEGIN:VEVENT
DTSTART;TZID=Europe/Rome:20230509T204500
DTEND;TZID=Europe/Rome:20230509T220000
DTSTAMP:20260426T031809
CREATED:20230412T090829Z
LAST-MODIFIED:20230412T090829Z
UID:1702-1683665100-1683669600@giro.promoeventisport.it
SUMMARY:Proiezione del film - Wonderful Losers
DESCRIPTION:
URL:https://giro.promoeventisport.it/evento/proiezione-del-film-wonderful-losers/
LOCATION:Auditorium Modernissimo\, Piazza Libertà\, Nembro\, BG\, 24027\, Italia
CATEGORIES:Prossimi eventi
ATTACH;FMTTYPE=image/jpeg:https://giro.promoeventisport.it/wp-content/uploads/2023/04/thumb-wonderful-losers-scaled.jpg
END:VEVENT
BEGIN:VEVENT
DTSTART;TZID=Europe/Rome:20230429T210000
DTEND;TZID=Europe/Rome:20230429T220000
DTSTAMP:20260426T031809
CREATED:20230412T053153Z
LAST-MODIFIED:20230412T053153Z
UID:1697-1682802000-1682805600@giro.promoeventisport.it
SUMMARY:Spettacolo teatrale - Una vita sui pedali
DESCRIPTION:
URL:https://giro.promoeventisport.it/evento/spettacolo-teatrale-una-vita-sui-pedali/
LOCATION:Sala Congressi\, Corso Milano\, 19\, Selvino\, BG\, 24020\, Italia
CATEGORIES:Prossimi eventi
ATTACH;FMTTYPE=image/jpeg:https://giro.promoeventisport.it/wp-content/uploads/2023/04/Una-vita-sui-pedali.jpg
END:VEVENT
BEGIN:VEVENT
DTSTART;VALUE=DATE:20170523
DTEND;VALUE=DATE:20170525
DTSTAMP:20260426T031809
CREATED:20170510T133107Z
LAST-MODIFIED:20170510T133107Z
UID:734-1495519200-1495605599@giro.promoeventisport.it
SUMMARY:Festa di primavera
DESCRIPTION:Ore 9.00\nApertura del Village presso il parcheggio delle Scuole in via Papa Giovanni XXIII \nOre 10.30\nPartenza della 16°Tappa del Giro d’Italia con passerella per il centro del paese. \nPresso il Centro Museale di Rovetta sarà allestita la mostra che racconta i 100 anni del Giro d’Italia.\nSarà possibile visitarla sabato e lunedì dalle 10.00 alle 12.00 e dalle 15.00 alle 17.00;\ndomenica la mostra sarà aperta tutto il giorno.
URL:https://giro.promoeventisport.it/evento/festa-di-primavera-3/
LOCATION:Rovetta
CATEGORIES:Prossimi eventi,Rovetta
ATTACH;FMTTYPE=image/jpeg:https://giro.promoeventisport.it/wp-content/uploads/2017/05/festa-primavera.jpg
END:VEVENT
BEGIN:VEVENT
DTSTART;TZID=Europe/Rome:20170522T180000
DTEND;TZID=Europe/Rome:20170522T180000
DTSTAMP:20260426T031809
CREATED:20170506T135823Z
LAST-MODIFIED:20170510T102436Z
UID:695-1495476000-1495476000@giro.promoeventisport.it
SUMMARY:Un "Giro" per Clusone
DESCRIPTION:In occasione dell’arrivo del Giro d’Italia nell’altopiano clusonese\, un itinerario da percorrere tutto d’un fiato. \nOrologio Planetario Fanzago\, Danza Macabra e MAT – Museo Arte Tempo\, tre tappe d’eccezione per chi vuole percorrere i luoghi più importanti e suggestivi della cittadina baradella\, assaporare le bellezze culturali e l’atmosfera primaverile. \nRitrovo ore 18:00 presso la Piazza Orologio. \nCosto € 5\,00 – con Artelier – prenotazione al 342.3897672.
URL:https://giro.promoeventisport.it/evento/un-giro-clusone/
LOCATION:Piazza Orologio\, Piazza dell'Orologio\, Clusone\, 24023\, Italia
CATEGORIES:Prossimi eventi,Rovetta
ATTACH;FMTTYPE=image/jpeg:https://giro.promoeventisport.it/wp-content/uploads/2017/05/clusone_piazza_orologio_IMG_7283-63-800-600-80.jpg
END:VEVENT
BEGIN:VEVENT
DTSTART;TZID=Europe/Rome:20170522T170000
DTEND;TZID=Europe/Rome:20170523T000000
DTSTAMP:20260426T031809
CREATED:20170506T142052Z
LAST-MODIFIED:20170510T102346Z
UID:702-1495472400-1495497600@giro.promoeventisport.it
SUMMARY:Notte Rosa
DESCRIPTION:Dalle 18\,00 in Piazza Orologio DJ set con Tony Tranquillo.\nEstrazione della sottoscrizione a premi “Aspettando il Giro…il Mercato si veste di Rosa” organizzata dagli ambulanti del Mercato di Clusone. \nAlle 19\,30 Pasta in Rosa in collaborazione con ABF Alberghiera Clusone a offerta libera a sostegno delle popolazioni del centro Italia colpite dal terremoto. A seguire serata con grandi ospiti del ciclismo\, premiazione della “Vetrina in rosa” e estrazione del “Girolotteria”. \nIn occasione dei 70 anni dalla fondazione del corpo della Polizia Stradale durante la Notte Rosa Clusone ospiterà l’esposizione di 12 mezzi storici della\n Stradale oltre all’allestimento di una mostra fotografica e altre sorprese. \nOre 18\,00 UN “GIRO” PER CLUSONE alla scoperta dei luoghi più importanti e suggestivi della città.\nCosto € 5\,00 – con Artelier – prenotazione al 342.3897672.
URL:https://giro.promoeventisport.it/evento/notte-rosa/
LOCATION:Piazza Orologio\, Piazza dell'Orologio\, Clusone\, 24023\, Italia
CATEGORIES:Prossimi eventi,Rovetta
ATTACH;FMTTYPE=image/jpeg:https://giro.promoeventisport.it/wp-content/uploads/2017/05/notte-rosa.jpg
END:VEVENT
BEGIN:VEVENT
DTSTART;TZID=Europe/Rome:20170522T090000
DTEND;TZID=Europe/Rome:20170522T090000
DTSTAMP:20260426T031809
CREATED:20170413T134239Z
LAST-MODIFIED:20170506T142250Z
UID:413-1495443600-1495443600@giro.promoeventisport.it
SUMMARY:PEDALA COI CAMPIONI
DESCRIPTION:PEDALA COI CAMPIONI\nIn occasione del Giro d’Italia 2017 e del passaggio in terra bergamasca della corsa rosa\, Promoeventi Sport in collaborazione con Scott Italia organizza la PEDALA COI CAMPIONI\, evento cicloamatoriale non agonistico ad andatura libera che vedrà numerosi ex professionisti su strada bergamaschi pedalare a fianco di autorità\, aziende partner\, rappresentanti delle istituzioni e degli enti locali e del pubblico che vorrà partecipare. \nUna pedalata che porterà i protagonisti a scoprire le piste ciclabili e le strade alternative della Val Seriana da Alzano Lombardo (ritrovo ore 9.00 in zona Barcicletta) fino a Onore: lungo il tragitto sarà possibile fermarsi alle stazioni di ristoro di Cene e Ponte Nossa\, per reintegrare le energie e ripartire di slancio verso la meta. \nLa partecipazione è libera e avviene sotto la propria responsabilità e\, in tal senso\, non è prevista iscrizione. \nIL PROGRAMMA:\nORE 9.00: Ritrovo presso il BarCicletta\nORE 9.30: Partenza dei gruppi\nORE 11.00: Tappa al BikeGrill\nORE 11.30: Partenza dei gruppi\nORE 12.30: Tappa al centro sportivo di Ponte Nossa\nORE 13.30: Arrivo a Onore con Pasta Party
URL:https://giro.promoeventisport.it/evento/pedala-coi-campioni/
LOCATION:Alzano Lombardo\, Italia
CATEGORIES:Bergamo,Prossimi eventi,Rovetta
ATTACH;FMTTYPE=image/jpeg:https://giro.promoeventisport.it/wp-content/uploads/2017/04/pedalata.jpg
ORGANIZER;CN="Promoeventi Sport":MAILTO:info@promoeventisport.it
END:VEVENT
BEGIN:VEVENT
DTSTART;TZID=Europe/Rome:20170521T160000
DTEND;TZID=Europe/Rome:20170521T233000
DTSTAMP:20260426T031809
CREATED:20170519T170803Z
LAST-MODIFIED:20170519T170828Z
UID:772-1495382400-1495409400@giro.promoeventisport.it
SUMMARY:Aperitivo in Rosa
DESCRIPTION:A Castione della presolana “Aperitivo in Rosa” in Piazza Donizzetti. \nORE 16.00 gimkana per bambini/ragazzi con le proprie bici fino alla 3^ media (ricordarsi di portare il casco!)\nAnimazione con il DJ Max fino a mezzanotte\nORE 19.00 aperitivo\nORE 20.30 bike trial show di Marco Bonalda
URL:https://giro.promoeventisport.it/evento/aperitivo-in-rosa/
LOCATION:Castione della Presolana
CATEGORIES:Prossimi eventi,Rovetta
ATTACH;FMTTYPE=image/jpeg:https://giro.promoeventisport.it/wp-content/uploads/2017/05/aperitivo-castione.jpg
END:VEVENT
BEGIN:VEVENT
DTSTART;TZID=Europe/Rome:20170521T150000
DTEND;TZID=Europe/Rome:20170521T150000
DTSTAMP:20260426T031809
CREATED:20170506T133540Z
LAST-MODIFIED:20170506T133540Z
UID:686-1495378800-1495378800@giro.promoeventisport.it
SUMMARY:PEDAL...ANDO
DESCRIPTION:Un percorso cicloturistico per le vie del paese con animazione per bambini e aperitivo in musica.
URL:https://giro.promoeventisport.it/evento/pedal-ando/
LOCATION:Castione della Presolana
CATEGORIES:Bergamo,Prossimi eventi,Rovetta
ATTACH;FMTTYPE=image/jpeg:https://giro.promoeventisport.it/wp-content/uploads/2017/05/cyclists-534423.jpg
END:VEVENT
BEGIN:VEVENT
DTSTART;TZID=Europe/Rome:20170521T140000
DTEND;TZID=Europe/Rome:20170521T180000
DTSTAMP:20260426T031809
CREATED:20170516T071819Z
LAST-MODIFIED:20170516T072026Z
UID:745-1495375200-1495389600@giro.promoeventisport.it
SUMMARY:East Lombardy incontra lo Sport
DESCRIPTION:La 100° edizione del Giro d’Italia godrà di una distribuzione televisiva planetaria: saranno 194 i Paesi collegati con la Corsa Rosa tramite 22 diversi network televisivi\, 19 dei quali trasmetteranno in diretta!\nLa 15° tappa del 21 maggio avrà il suo arrivo proprio nel centro della città di Bergamo in arrivo da Selvino con la lunga discesa\, la salita in Città Alta tramite Porta Garibaldi\, Colle Aperto e l’arrivo nel centro città.\nDomus Bergamo\, cuore pulsante delle iniziative del centro città e vetrina ufficiale del progetto East Lombardy (Bergamo\, Brescia\, Cremona e Mantova)\, curerà la presenza dei più rappresentativi prodotti enogastronomici di ciascuna delle quattro province East Lombardy ideando un progetto che crei un doppio collegamento tra sport e sana alimentazione\, tra Giro d’Italia e Lombardia Orientale.\nLa giornata partirà con un brindisi augurale riservato agli addetti ai lavori di Giro d’Italia e di East Lombardy durante il quale i giovani chef di Taste dell’istituto alberghiero iSchool\, prepareranno il primo panino East Lombardy. Si tratterà di un vero e proprio show cooking che darà il via alle pro-poste appositamente ideate e realizzate dal ristorante didattico. Agli appassionati e ai curiosi che aspetteranno l’arrivo dei corridori nel centro della città verranno proposti insieme al “panino East Lombardy” i prodotti di due birrifici artigianali. \nAl centro di Piazzetta Piave verrà allestito un grande tavolo espositivo in cui verranno presentati i più rappresentativi enogastronomici per ciascuna delle quattro province. \n 
URL:https://giro.promoeventisport.it/evento/east-lombardy-incontra-lo-sport/
LOCATION:Piazzetta Piave\, Bergamo\, 24121\, Italia
CATEGORIES:Bergamo,Prossimi eventi,Rovetta
ATTACH;FMTTYPE=image/jpeg:https://giro.promoeventisport.it/wp-content/uploads/2017/05/locandina.jpg
END:VEVENT
BEGIN:VEVENT
DTSTART;TZID=Europe/Rome:20170521T090000
DTEND;TZID=Europe/Rome:20170521T180000
DTSTAMP:20260426T031809
CREATED:20170506T132326Z
LAST-MODIFIED:20170510T101501Z
UID:677-1495357200-1495389600@giro.promoeventisport.it
SUMMARY:BIMBI IN BICI
DESCRIPTION:Pedalata aperta a tutti i ragazzi e alle loro famiglie in un percorso di 5 km\, alle 12:30 PASTA PARTY e animazione per i più piccoli. \nA seguire merenda e Maxi schermo in Piazza Orologio per vedere insieme la tappa del Giro a Bergamo. \nPROGRAMMA\nRitrovo in Piazza Orologio dalle ore 9.00 alle ore 9.45 per iscrizioni\nOre 10.30 partenza della pedalata verso Rovetta\nOre 12.15 circa rientro in Piazza Orologio\nOre 12.30 Pasta Party in collaborazione con Turismo Pro Clusone\nOre 14.00 Animazione e truccabimbi\nOre 15.30 Animazione con l’artista di strada Gemy Gimelli\nOre 16.15 Merenda per tutti in collaborazione con Panificio Minuscoli\nOre 17.00 estrazione premi: 1° premio Bicicletta – tanti ricchi premi per tutti. \n  \nISCRIZIONI\nPresso Cicli Pellegrini Clusone – Turismo Pro Clusone\nDomenica 21 – Iscrizioni direttamente in Piazza Orologio – dalle 9.00 alle 10.15\nBambino/ragazzo fino a 18 anni non compiuti\n€ 6\,00 (la quota comprende l’assicurazione e l’iscrizione per 1 anno all’associazione Aribi-Fiab\, pasta party\, merenda e animazione).\nGenitore/ragazzo 18 anni compiuti\n€ 4\,00 (la quota comprende l’assicurazione per la manifestazione\, pasta party\, merenda e animazione). \nE’ CONSIGLIATO L’USO DEL CASCHETTO\nIn caso di maltempo visitate il sito www.turismoproclusone.it
URL:https://giro.promoeventisport.it/evento/bimbi-in-bici/
LOCATION:Piazza Orologio\, Piazza dell'Orologio\, Clusone\, 24023\, Italia
CATEGORIES:Bergamo,Prossimi eventi,Rovetta
ATTACH;FMTTYPE=image/jpeg:https://giro.promoeventisport.it/wp-content/uploads/2017/05/bimbibici2.jpg
END:VEVENT
BEGIN:VEVENT
DTSTART;VALUE=DATE:20170521
DTEND;VALUE=DATE:20170523
DTSTAMP:20260426T031809
CREATED:20170510T132819Z
LAST-MODIFIED:20170510T132819Z
UID:732-1495346400-1495432799@giro.promoeventisport.it
SUMMARY:Festa di primavera
DESCRIPTION:Dalle ore 10.00 alle 22.00\nMostra mercato con bancarelle di prodotti tipici e artigianali e con la presenza di stand dedicati alle biciclette. \nDalle ore 10.00\nUn divertente percorso in bicicletta aspetta tutti i bambini nel parcheggio di Piazza Ferrari con l’assistenza della MTB Parre \nDalle  ore 14.00\nLudobus in Piazza Marinoni. \nOre 16.00 e ore 18.00\nSpettacolo giocoleria su due ruote con Pacomachine in Piazza Ferrari. \nDalle 20.30\nBeppe Duci presenta una serata tra vecchie e nuove glorie del mondo delle due ruote\, con interviste e premiazioni. \nOspiti d’eccezione Paolo Savoldelli\, Attilio Rota\, Paolo Lanfranchi\, Alessandro Paganessi\, Alessandro Bazzana e Mark Thomas Blewett. \nPresentazione delle squadre ciclistiche giovanili della Val Seriana Presso il Centro Museale e sarà possibile vedere in diretta l’arrivo della 15°Tappa del Giro d’Italia a Bergamo.
URL:https://giro.promoeventisport.it/evento/festa-di-primavera-2/
LOCATION:Rovetta
CATEGORIES:Prossimi eventi,Rovetta
ATTACH;FMTTYPE=image/jpeg:https://giro.promoeventisport.it/wp-content/uploads/2017/05/festa-primavera.jpg
END:VEVENT
BEGIN:VEVENT
DTSTART;TZID=Europe/Rome:20170520T143000
DTEND;TZID=Europe/Rome:20170520T143000
DTSTAMP:20260426T031809
CREATED:20170510T101723Z
LAST-MODIFIED:20170510T101821Z
UID:723-1495290600-1495290600@giro.promoeventisport.it
SUMMARY:BIMBI IN BICI
DESCRIPTION:Dalle ore 14.30 presso Piazza Manzù verranno allestiti percorsi ad ostacoli a cura della Polizia Locale di Clusone\, del MTB Parre e Aribi-Fiab.\nA seguire Pedalata in Centro Storico in collaborazione con MTB Parre.
URL:https://giro.promoeventisport.it/evento/bimbi-in-bici-2/
LOCATION:Piazza Manzù\, Clusone\, 24023\, Italia
CATEGORIES:Bergamo,Prossimi eventi,Rovetta
ATTACH;FMTTYPE=image/jpeg:https://giro.promoeventisport.it/wp-content/uploads/2017/05/bimbibici2.jpg
END:VEVENT
BEGIN:VEVENT
DTSTART;TZID=Europe/Rome:20170519T210000
DTEND;TZID=Europe/Rome:20170519T233000
DTSTAMP:20260426T031809
CREATED:20170506T135105Z
LAST-MODIFIED:20170510T132414Z
UID:690-1495227600-1495236600@giro.promoeventisport.it
SUMMARY:Festa di primavera
DESCRIPTION:Proiezione del film “Marinoni: The fire in the frame” di Giuseppe Marinino\, originario\ndi Rovetta\, presso il Centro Museale. \n  \n  \n 
URL:https://giro.promoeventisport.it/evento/festa-di-primavera/
LOCATION:Centro Museale\, Via San Narno Della Valle\, Rovetta\, 24020\, Italia
CATEGORIES:Prossimi eventi,Rovetta
ATTACH;FMTTYPE=image/jpeg:https://giro.promoeventisport.it/wp-content/uploads/2017/05/festa-primavera.jpg
END:VEVENT
BEGIN:VEVENT
DTSTART;TZID=Europe/Rome:20170412T200000
DTEND;TZID=Europe/Rome:20170412T230000
DTSTAMP:20260426T031809
CREATED:20170320T133550Z
LAST-MODIFIED:20170320T134400Z
UID:354-1492027200-1492038000@giro.promoeventisport.it
SUMMARY:SAVE THE DATE
DESCRIPTION:PRESENTAZIONE UFFICIALE\nTAPPE BERGAMASCHE 2017\nmercoledì 12 aprile\npresso il Centro Congressi Giovanni XXIII – Bergamo\nA seguire\, il programma ufficiale della serata. \n  
URL:https://giro.promoeventisport.it/evento/save-the-date/
LOCATION:Centro Congressi Giovanni XXIII\, Bergamo\, Viale Papa Giovanni XXIII\, 106\, Bergamo\, 24122\, Italia
CATEGORIES:Bergamo,Prossimi eventi,Rovetta
ATTACH;FMTTYPE=image/jpeg:https://giro.promoeventisport.it/wp-content/uploads/2017/03/savethedate.jpg
ORGANIZER;CN="Promoeventi Sport":MAILTO:info@promoeventisport.it
END:VEVENT
BEGIN:VEVENT
DTSTART;VALUE=DATE:20170401
DTEND;VALUE=DATE:20170503
DTSTAMP:20260426T031809
CREATED:20170414T123519Z
LAST-MODIFIED:20170414T124254Z
UID:432-1491026400-1493704799@giro.promoeventisport.it
SUMMARY:Mostra sulla storia del Giro d'Italia - Clusone
DESCRIPTION:[vc_row][vc_column][vc_column_text]Iniziano gli eventi “Rosa” che ci accompagneranno verso il Giro d’Italia. \nA Clusone è allestita presso la sala Portici di Piazza Orologio\, la Mostra fotografica sulla storia del Giro d’Italia che il 23 maggio 2017 vedrà conivolti i comuni della zona in corrispondenza della 16° Tappa con partenza da Rovetta. \nLa mostra\, di proprietà di Promoeventi Sport\, ripercorre la storia del Giro con foto d’epoca e pannelli tematici. \nLa mostra è visitabile\, fino al 1 maggio\, dalle 10.00 alle 12.00 e dalle 15.00 alle 17.00 (chiuso il mercoledì).[/vc_column_text][vc_images_carousel images=”436\,433\,437″ img_size=”full” autoplay=”yes” css=”.vc_custom_1492173740606{padding-bottom: 100px !important;}”][/vc_column][/vc_row]
URL:https://giro.promoeventisport.it/evento/mostra-sulla-storia-del-giro-ditalia-clusone/
LOCATION:Sala Portici\, Piazza Orologio\, Clusone\, 24023\, Italia
CATEGORIES:Prossimi eventi,Rovetta
ATTACH;FMTTYPE=image/jpeg:https://giro.promoeventisport.it/wp-content/uploads/2017/04/20170414_120116.jpg
ORGANIZER;CN="Promoeventi Sport":MAILTO:info@promoeventisport.it
END:VEVENT
BEGIN:VEVENT
DTSTART;VALUE=DATE:20161226
DTEND;VALUE=DATE:20170415
DTSTAMP:20260426T031809
CREATED:20170119T163044Z
LAST-MODIFIED:20170414T123606Z
UID:57-1482732000-1492149599@giro.promoeventisport.it
SUMMARY:Mostra sulla storia del Giro d'Italia
DESCRIPTION:Iniziano gli eventi “Rosa” che ci accompagneranno verso il Giro d’Italia. \nA Cerete Basso è allestita\, all’intero dell’ex dispensario farmaceutico\, la Mostra fotografica sulla storia del Giro d’Italia che il 23 maggio 2017 vedrà conivolti i comuni della zona in corrispondenza della 16° Tappa con partenza da Rovetta. \nLa mostra\, di proprietà di Promoeventi Sport\, ripercorre la storia del Giro con foto d’epoca e pannelli tematici. Ad arricchire la mostra\, la Maglio Rosa del campione di casa Paolo Savoldelli da lui stesso donata per l’occasione. \nLa Mostra\, si trova in Via IV Novembre n° 5 e sarà visibile dal 26 dicembre tutti i giorni fino alla fine delle festività nei pomeriggi dalle 15 alle 18.30 (il 26 dicembre e il 6-7-8 gennaio anche dalle 10.30 alle 12.30).
URL:https://giro.promoeventisport.it/evento/mostra-sulla-storia-del-giro-ditalia/
LOCATION:Ex dispensario farmaceutico di Cerete Basso\, Via IV Novembre n° 5\, Cerete\, Bergamo\, Italia
CATEGORIES:Prossimi eventi,Rovetta
ATTACH;FMTTYPE=image/jpeg:https://giro.promoeventisport.it/wp-content/uploads/2017/01/mostra-giro-italia-rovetta-cerete.jpeg
ORGANIZER;CN="Promoeventi Sport":MAILTO:info@promoeventisport.it
END:VEVENT
END:VCALENDAR