 BEGIN:VCALENDAR
VERSION:2.0
PRODID:-//Giro d&#039;Italia - Tappe Bergamasche - ECPv6.15.20//NONSGML v1.0//EN
CALSCALE:GREGORIAN
METHOD:PUBLISH
X-ORIGINAL-URL:https://giro.promoeventisport.it
X-WR-CALDESC:Eventi per Giro d&#039;Italia - Tappe Bergamasche
REFRESH-INTERVAL;VALUE=DURATION:PT1H
X-Robots-Tag:noindex
X-PUBLISHED-TTL:PT1H
BEGIN:VTIMEZONE
TZID:Europe/Rome
BEGIN:DAYLIGHT
TZOFFSETFROM:+0100
TZOFFSETTO:+0200
TZNAME:CEST
DTSTART:20150329T010000
END:DAYLIGHT
BEGIN:STANDARD
TZOFFSETFROM:+0200
TZOFFSETTO:+0100
TZNAME:CET
DTSTART:20151025T010000
END:STANDARD
BEGIN:DAYLIGHT
TZOFFSETFROM:+0100
TZOFFSETTO:+0200
TZNAME:CEST
DTSTART:20160327T010000
END:DAYLIGHT
BEGIN:STANDARD
TZOFFSETFROM:+0200
TZOFFSETTO:+0100
TZNAME:CET
DTSTART:20161030T010000
END:STANDARD
BEGIN:DAYLIGHT
TZOFFSETFROM:+0100
TZOFFSETTO:+0200
TZNAME:CEST
DTSTART:20170326T010000
END:DAYLIGHT
BEGIN:STANDARD
TZOFFSETFROM:+0200
TZOFFSETTO:+0100
TZNAME:CET
DTSTART:20171029T010000
END:STANDARD
BEGIN:DAYLIGHT
TZOFFSETFROM:+0100
TZOFFSETTO:+0200
TZNAME:CEST
DTSTART:20180325T010000
END:DAYLIGHT
BEGIN:STANDARD
TZOFFSETFROM:+0200
TZOFFSETTO:+0100
TZNAME:CET
DTSTART:20181028T010000
END:STANDARD
END:VTIMEZONE
BEGIN:VEVENT
DTSTART;TZID=Europe/Rome:20170519T210000
DTEND;TZID=Europe/Rome:20170519T233000
DTSTAMP:20260426T021455
CREATED:20170506T135105Z
LAST-MODIFIED:20170510T132414Z
UID:690-1495227600-1495236600@giro.promoeventisport.it
SUMMARY:Festa di primavera
DESCRIPTION:Proiezione del film “Marinoni: The fire in the frame” di Giuseppe Marinino\, originario\ndi Rovetta\, presso il Centro Museale. \n  \n  \n 
URL:https://giro.promoeventisport.it/evento/festa-di-primavera/
LOCATION:Centro Museale\, Via San Narno Della Valle\, Rovetta\, 24020\, Italia
CATEGORIES:Prossimi eventi,Rovetta
ATTACH;FMTTYPE=image/jpeg:https://giro.promoeventisport.it/wp-content/uploads/2017/05/festa-primavera.jpg
END:VEVENT
BEGIN:VEVENT
DTSTART;TZID=Europe/Rome:20170412T200000
DTEND;TZID=Europe/Rome:20170412T230000
DTSTAMP:20260426T021455
CREATED:20170320T133550Z
LAST-MODIFIED:20170320T134400Z
UID:354-1492027200-1492038000@giro.promoeventisport.it
SUMMARY:SAVE THE DATE
DESCRIPTION:PRESENTAZIONE UFFICIALE\nTAPPE BERGAMASCHE 2017\nmercoledì 12 aprile\npresso il Centro Congressi Giovanni XXIII – Bergamo\nA seguire\, il programma ufficiale della serata. \n  
URL:https://giro.promoeventisport.it/evento/save-the-date/
LOCATION:Centro Congressi Giovanni XXIII\, Bergamo\, Viale Papa Giovanni XXIII\, 106\, Bergamo\, 24122\, Italia
CATEGORIES:Bergamo,Prossimi eventi,Rovetta
ATTACH;FMTTYPE=image/jpeg:https://giro.promoeventisport.it/wp-content/uploads/2017/03/savethedate.jpg
ORGANIZER;CN="Promoeventi Sport":MAILTO:info@promoeventisport.it
END:VEVENT
BEGIN:VEVENT
DTSTART;VALUE=DATE:20170401
DTEND;VALUE=DATE:20170503
DTSTAMP:20260426T021455
CREATED:20170414T123519Z
LAST-MODIFIED:20170414T124254Z
UID:432-1491026400-1493704799@giro.promoeventisport.it
SUMMARY:Mostra sulla storia del Giro d'Italia - Clusone
DESCRIPTION:[vc_row][vc_column][vc_column_text]Iniziano gli eventi “Rosa” che ci accompagneranno verso il Giro d’Italia. \nA Clusone è allestita presso la sala Portici di Piazza Orologio\, la Mostra fotografica sulla storia del Giro d’Italia che il 23 maggio 2017 vedrà conivolti i comuni della zona in corrispondenza della 16° Tappa con partenza da Rovetta. \nLa mostra\, di proprietà di Promoeventi Sport\, ripercorre la storia del Giro con foto d’epoca e pannelli tematici. \nLa mostra è visitabile\, fino al 1 maggio\, dalle 10.00 alle 12.00 e dalle 15.00 alle 17.00 (chiuso il mercoledì).[/vc_column_text][vc_images_carousel images=”436\,433\,437″ img_size=”full” autoplay=”yes” css=”.vc_custom_1492173740606{padding-bottom: 100px !important;}”][/vc_column][/vc_row]
URL:https://giro.promoeventisport.it/evento/mostra-sulla-storia-del-giro-ditalia-clusone/
LOCATION:Sala Portici\, Piazza Orologio\, Clusone\, 24023\, Italia
CATEGORIES:Prossimi eventi,Rovetta
ATTACH;FMTTYPE=image/jpeg:https://giro.promoeventisport.it/wp-content/uploads/2017/04/20170414_120116.jpg
ORGANIZER;CN="Promoeventi Sport":MAILTO:info@promoeventisport.it
END:VEVENT
BEGIN:VEVENT
DTSTART;VALUE=DATE:20161226
DTEND;VALUE=DATE:20170415
DTSTAMP:20260426T021455
CREATED:20170119T163044Z
LAST-MODIFIED:20170414T123606Z
UID:57-1482732000-1492149599@giro.promoeventisport.it
SUMMARY:Mostra sulla storia del Giro d'Italia
DESCRIPTION:Iniziano gli eventi “Rosa” che ci accompagneranno verso il Giro d’Italia. \nA Cerete Basso è allestita\, all’intero dell’ex dispensario farmaceutico\, la Mostra fotografica sulla storia del Giro d’Italia che il 23 maggio 2017 vedrà conivolti i comuni della zona in corrispondenza della 16° Tappa con partenza da Rovetta. \nLa mostra\, di proprietà di Promoeventi Sport\, ripercorre la storia del Giro con foto d’epoca e pannelli tematici. Ad arricchire la mostra\, la Maglio Rosa del campione di casa Paolo Savoldelli da lui stesso donata per l’occasione. \nLa Mostra\, si trova in Via IV Novembre n° 5 e sarà visibile dal 26 dicembre tutti i giorni fino alla fine delle festività nei pomeriggi dalle 15 alle 18.30 (il 26 dicembre e il 6-7-8 gennaio anche dalle 10.30 alle 12.30).
URL:https://giro.promoeventisport.it/evento/mostra-sulla-storia-del-giro-ditalia/
LOCATION:Ex dispensario farmaceutico di Cerete Basso\, Via IV Novembre n° 5\, Cerete\, Bergamo\, Italia
CATEGORIES:Prossimi eventi,Rovetta
ATTACH;FMTTYPE=image/jpeg:https://giro.promoeventisport.it/wp-content/uploads/2017/01/mostra-giro-italia-rovetta-cerete.jpeg
ORGANIZER;CN="Promoeventi Sport":MAILTO:info@promoeventisport.it
END:VEVENT
END:VCALENDAR