 BEGIN:VCALENDAR
VERSION:2.0
PRODID:-//Giro d&#039;Italia - Tappe Bergamasche - ECPv6.15.20//NONSGML v1.0//EN
CALSCALE:GREGORIAN
METHOD:PUBLISH
X-WR-CALNAME:Giro d&#039;Italia - Tappe Bergamasche
X-ORIGINAL-URL:https://giro.promoeventisport.it
X-WR-CALDESC:Eventi per Giro d&#039;Italia - Tappe Bergamasche
REFRESH-INTERVAL;VALUE=DURATION:PT1H
X-Robots-Tag:noindex
X-PUBLISHED-TTL:PT1H
BEGIN:VTIMEZONE
TZID:Europe/Rome
BEGIN:DAYLIGHT
TZOFFSETFROM:+0100
TZOFFSETTO:+0200
TZNAME:CEST
DTSTART:20150329T010000
END:DAYLIGHT
BEGIN:STANDARD
TZOFFSETFROM:+0200
TZOFFSETTO:+0100
TZNAME:CET
DTSTART:20151025T010000
END:STANDARD
BEGIN:DAYLIGHT
TZOFFSETFROM:+0100
TZOFFSETTO:+0200
TZNAME:CEST
DTSTART:20160327T010000
END:DAYLIGHT
BEGIN:STANDARD
TZOFFSETFROM:+0200
TZOFFSETTO:+0100
TZNAME:CET
DTSTART:20161030T010000
END:STANDARD
BEGIN:DAYLIGHT
TZOFFSETFROM:+0100
TZOFFSETTO:+0200
TZNAME:CEST
DTSTART:20170326T010000
END:DAYLIGHT
BEGIN:STANDARD
TZOFFSETFROM:+0200
TZOFFSETTO:+0100
TZNAME:CET
DTSTART:20171029T010000
END:STANDARD
BEGIN:DAYLIGHT
TZOFFSETFROM:+0100
TZOFFSETTO:+0200
TZNAME:CEST
DTSTART:20180325T010000
END:DAYLIGHT
BEGIN:STANDARD
TZOFFSETFROM:+0200
TZOFFSETTO:+0100
TZNAME:CET
DTSTART:20181028T010000
END:STANDARD
END:VTIMEZONE
BEGIN:VEVENT
DTSTART;VALUE=DATE:20161226
DTEND;VALUE=DATE:20170415
DTSTAMP:20260426T033844
CREATED:20170119T163044Z
LAST-MODIFIED:20170414T123606Z
UID:57-1482732000-1492149599@giro.promoeventisport.it
SUMMARY:Mostra sulla storia del Giro d'Italia
DESCRIPTION:Iniziano gli eventi “Rosa” che ci accompagneranno verso il Giro d’Italia. \nA Cerete Basso è allestita\, all’intero dell’ex dispensario farmaceutico\, la Mostra fotografica sulla storia del Giro d’Italia che il 23 maggio 2017 vedrà conivolti i comuni della zona in corrispondenza della 16° Tappa con partenza da Rovetta. \nLa mostra\, di proprietà di Promoeventi Sport\, ripercorre la storia del Giro con foto d’epoca e pannelli tematici. Ad arricchire la mostra\, la Maglio Rosa del campione di casa Paolo Savoldelli da lui stesso donata per l’occasione. \nLa Mostra\, si trova in Via IV Novembre n° 5 e sarà visibile dal 26 dicembre tutti i giorni fino alla fine delle festività nei pomeriggi dalle 15 alle 18.30 (il 26 dicembre e il 6-7-8 gennaio anche dalle 10.30 alle 12.30).
URL:https://giro.promoeventisport.it/evento/mostra-sulla-storia-del-giro-ditalia/
LOCATION:Ex dispensario farmaceutico di Cerete Basso\, Via IV Novembre n° 5\, Cerete\, Bergamo\, Italia
CATEGORIES:Prossimi eventi,Rovetta
ATTACH;FMTTYPE=image/jpeg:https://giro.promoeventisport.it/wp-content/uploads/2017/01/mostra-giro-italia-rovetta-cerete.jpeg
ORGANIZER;CN="Promoeventi Sport":MAILTO:info@promoeventisport.it
END:VEVENT
END:VCALENDAR